BEGIN:VCALENDAR
VERSION:2.0
PRODID:-//hacksw/handcal//NONSGML v1.0//EN
METHOD:PUBLISH
BEGIN:VEVENT
UID:pdnetworks-1065116913@soesd.k12.or.us
SEQUENCE:9
DTSTAMP:20260422T173500
DTSTART:20240402T160000
DTEND:20240402T173000
SUMMARY:Dear Data Sparked an Idea! Dear Data PD - Dear Data Sparked an Idea! Dear Data PD-Session 4 - PDNetworks Class
LOCATION:ZOOM    
X-ALT-DESC;FMTTYPE=text/html:ZOOM    <br/><br/><strong>Dear Data Sparked an Idea! Dear Data Professional Development</strong><br/> <br/><strong>Who:</strong> Educators in any subject area<br/> <br/><strong>Description:</strong> Data can be used to tell stories\, reveal misconceptions\, and broaden perspectives. Join teachers from across the state to explore creative ways to integrate data reasoning\, art\, language arts\, science\, and mathematics - all while attending to the social-emotional needs of your students. Across the four\, 90-minute sessions\, you will develop strategies for collecting and organizing multivariate data and use mathematical concepts to create visual representations of the data. For first time participants\, the Dear Data drawing journal is included with your registration\, while supplies last.  <br/> <br/><strong>Dates: </strong>Tuesdays\, Feb 20\, Mar 5\, Mar 19\, Apr 2\, 2024<br/> <br/><strong>Time: </strong>4:00 - 5:30pm\, Pacific Time<br/> <br/><strong>Where:</strong><br/>Join Zoom Meeting<br/><a href="https://soesd.zoom.us/j/95575053772">https://soesd.zoom.us/j/95575053772</a><br/>Meeting ID: 955 7505 3772<br/> <br/><strong>Fee:</strong> Free<br/><strong>6 Total PDU’s</strong><br/> <br/>Contacts:  Heather Armstrong- heather_armstrong@soesd.k12.or.us<br/>                 Lisa Udall- lisa_udall@soesd.k12.or.us<br/><br/>For more information on (or to unsubscribe from) this event\, please go to https://pdnetworks.soesd.k12.or.us/public/events/view-event/10651/Dear-Data-Sparked-an-Idea%21-Dear-Data-PD
STATUS:CONFIRMED
END:VEVENT
END:VCALENDAR