BEGIN:VCALENDAR
VERSION:2.0
PRODID:-//hacksw/handcal//NONSGML v1.0//EN
METHOD:PUBLISH
BEGIN:VEVENT
UID:pdnetworks-1158618185@soesd.k12.or.us
SEQUENCE:21
DTSTAMP:20260420T151923
DTSTART:20241015T090000
DTEND:20241015T100000
SUMMARY:TSEL Implementation Open Office-hours Support (Virtual)      - TSEL Implementation Open Office-hours Support (Virtual) - PDNetworks Class
LOCATION:https://soesd.zoom.us/j/9851956458
X-ALT-DESC;FMTTYPE=text/html:https://soesd.zoom.us/j/9851956458<br/><br/><p>Hosted by a School Improvement Specialist from the Student Behavioral Health and Wellness Team\, each monthly office hour provides expert assistance for implementing Oregon&rsquo\;s Transformative Social Emotional Learning (TSEL) Framework\, Stages 1-4. These office hours are offered as a &ldquo\;flipped classroom&rdquo\; model\, with informational training videos sent out two weeks prior to each session. This approach allows participants to work on the material and then bring any barriers or questions to the office hours. Each month focuses on one Implementation Stage to help prepare for the Division 22 standards\, ORS 329.045\, Section 4 requirements. Registering for the event grants access to monthly training videos sent at the beginning of each month.</p><br/><br/><br/><br/><p>The overall purpose is to provide schools with the opportunity to work through each stage of the TSEL Framework and standards\, and then meet with a School Improvement Specialist for technical assistance. This ensures that the TSEL Framework is custom-tailored to meet the specific needs of each school.</p><br/><br/><br/><br/><p><strong>Dates: </strong>3rd Tuesday of the month from 9 am to 10 am (9/17/24\,&nbsp\;10/15/24\,&nbsp\;11/19/24\,&nbsp\;12/17/24\,&nbsp\;1/21/25\,&nbsp\;2/18/25\,&nbsp\;3/18/25\,&nbsp\;4/15/25\,&nbsp\;5/20/25)</p><br/><br/><br/><br/>For more information on (or to unsubscribe from) this event\, please go to https://pdnetworks.soesd.k12.or.us/public/events/view-event/11586/TSEL-Implementation-Open-Office-hours-Support-%28Virtual%29-----
STATUS:CONFIRMED
END:VEVENT
END:VCALENDAR