BEGIN:VCALENDAR
VERSION:2.0
PRODID:-//hacksw/handcal//NONSGML v1.0//EN
METHOD:PUBLISH
BEGIN:VEVENT
UID:pdnetworks-1283020661@soesd.k12.or.us
SEQUENCE:23
DTSTAMP:20260424T180745
DTSTART:19991130T120000
DTEND:19991130T120000
SUMMARY:ODE Tribal Consultation Toolkit: On-Demand 24/25 - Module 4: Tribal Consultation- Ensuring Authentic Cycles of Tribal Consultation - PDNetworks Class
LOCATION:Online Canvas Course    
DESCRIPTION:Online Canvas Course    \n\nOverview: Understand how to conduct combined consultations\, as well as how to ensure effective pre-consultation preparation.\n\nFor more information on (or to unsubscribe from) this event\, please go to https://pdnetworks.soesd.k12.or.us/public/events/view-event/12830/ODE-Tribal-Consultation-Toolkit%3A-On-Demand-24-25
STATUS:CONFIRMED
END:VEVENT
END:VCALENDAR