BEGIN:VCALENDAR
VERSION:2.0
PRODID:-//hacksw/handcal//NONSGML v1.0//EN
METHOD:PUBLISH
BEGIN:VEVENT
UID:pdnetworks-13771@soesd.k12.or.us
SEQUENCE:10
DTSTAMP:20260420T033417
DTSTART:20250717T180000
DTEND:20250717T210000
SUMMARY:88843 Exploring Observation Techniques & Methods - PDNetworks Workshop
LOCATION:Clackamas ESD - Online/Virtual     - 
X-ALT-DESC;FMTTYPE=text/html:Clackamas ESD - Online/Virtual     - <br/><br/><p>Thinking about using observations in your program? Join us we explore a variety of observation techniques. Examine what types of observation methods or techniques are appropriate for your specific purposes. With this knowledge\, evaluate when to use observation in your program planning.<br/><br/>Set 2<br/>OA<br/>&nbsp\;</p><br/><br/><br/><br/><br/><br/> For more information on this event\, go to https://pdnetworks.soesd.k12.or.us/public/events/view-event/13771/88843-Exploring-Observation-Techniques-%26-Methods
STATUS:CONFIRMED
END:VEVENT
END:VCALENDAR