BEGIN:VCALENDAR
VERSION:2.0
PRODID:-//hacksw/handcal//NONSGML v1.0//EN
METHOD:PUBLISH
BEGIN:VEVENT
UID:pdnetworks-13777@soesd.k12.or.us
SEQUENCE:7
DTSTAMP:20260423T033114
DTSTART:20250804T180000
DTEND:20250804T210000
SUMMARY:88240 (STATE) Motivando el Desarrollo Físico de los Niños (Motivating Children's Physical Development) - PDNetworks Workshop
LOCATION:Clackamas ESD - Online/Virtual     - 
X-ALT-DESC;FMTTYPE=text/html:Clackamas ESD - Online/Virtual     - <br/><br/><p>Esta capacitaci&oacute\;n se centra en estrategias para motivar y mejorar el desarrollo f&iacute\;sico infantil. Los participantes explorar&aacute\;n maneras efectivas de fomentar la actividad f&iacute\;sica\, la motricidad fina y la coordinaci&oacute\;n\, contribuyendo as&iacute\; al crecimiento y bienestar general de los ni&ntilde\;os.<br/><br/>Serie 1<br/>LEC<br/><br/>This training focuses on strategies to motivate and enhance children&rsquo\;s physical development. Participants will explore effective ways to encourage physical activity\, fine motor skills\, and coordination\, contributing to the overall growth and well-being of children.<br/><br/>Set 1<br/>LEC</p><br/><br/><br/><br/><br/><br/> For more information on this event\, go to https://pdnetworks.soesd.k12.or.us/public/events/view-event/13777/88240-%28STATE%29-Motivando-el-Desarrollo-F%C3%ADsico-de-los-Ni%C3%B1os-%28Motivating-Children%27s-Physical-Development%29
STATUS:CONFIRMED
END:VEVENT
END:VCALENDAR