BEGIN:VCALENDAR
VERSION:2.0
PRODID:-//hacksw/handcal//NONSGML v1.0//EN
METHOD:CANCEL
BEGIN:VEVENT
UID:pdnetworks-1378522047@soesd.k12.or.us
SEQUENCE:7
DTSTAMP:20260420T033412
DTSTART:20250806T180000
DTEND:20250807T210000
SUMMARY:88851 Exploring Strengthening Families thru the Protective Factors - 88851 Exploring Strengthening Families thru the Protective Factors - PDNetworks Class
LOCATION:Virtual    
DESCRIPTION:Virtual    \n\nThe Protective Factors is a National and International initiative aimed to develop and enhance five specific characteristics that help keep families strong and children safe from abuse and neglect. We will explore strategies to support families with emphasis on positive outcomes through the understanding of our our values\, skills giving respect to all cultures and family strengths.\n\nSet 2\n3 FCS & 3 UGB\n\nFor more information on (or to unsubscribe from) this event\, please go to https://pdnetworks.soesd.k12.or.us/public/events/view-event/13785/88851-Exploring-Strengthening-Families-thru-the-Protective-Factors
STATUS:CANCELLED
END:VEVENT
END:VCALENDAR