BEGIN:VCALENDAR
VERSION:2.0
PRODID:-//hacksw/handcal//NONSGML v1.0//EN
METHOD:PUBLISH
BEGIN:VEVENT
UID:pdnetworks-13786@soesd.k12.or.us
SEQUENCE:8
DTSTAMP:20260423T073335
DTSTART:20250812T180000
DTEND:20250812T210000
SUMMARY:88243 (STATE) Team Building with Grace and Style - PDNetworks Workshop
LOCATION:Clackamas ESD - Online/Virtual     - 
X-ALT-DESC;FMTTYPE=text/html:Clackamas ESD - Online/Virtual     - <br/><br/><p>Building a team that works together and reflects kindness and compassion can be easy! Leave with specific ideas on how to strengthen an established team as well as thoughts on creating the team your school needs.<br/><br/>Set 2<br/>PPLD<br/>&nbsp\;</p><br/><br/><br/><br/><br/><br/> For more information on this event\, go to https://pdnetworks.soesd.k12.or.us/public/events/view-event/13786/88243-%28STATE%29-Team-Building-with-Grace-and-Style
STATUS:CONFIRMED
END:VEVENT
END:VCALENDAR