BEGIN:VCALENDAR
VERSION:2.0
PRODID:-//hacksw/handcal//NONSGML v1.0//EN
METHOD:PUBLISH
BEGIN:VEVENT
UID:pdnetworks-13801@soesd.k12.or.us
SEQUENCE:5
DTSTAMP:20260420T071826
DTSTART:20250902T180000
DTEND:20250902T210000
SUMMARY:88262 (STATE) Preparación Ante Situaciones de Emergencia en el Cuidado Infantil Familiar (Emergency Preparedness in Family Child Care Settings) - PDNetworks Workshop
LOCATION:Clackamas ESD - Online/Virtual     - 
X-ALT-DESC;FMTTYPE=text/html:Clackamas ESD - Online/Virtual     - <br/><br/><p>Este curso prepara a los proveedores de cuidado infantil para situaciones de emergencia en entornos de cuidado infantil familiar. Los participantes aprender&aacute\;n estrategias clave para la respuesta ante emergencias\, crear&aacute\;n planes de acci&oacute\;n y garantizar&aacute\;n la seguridad de los ni&ntilde\;os en caso de emergencia.<br/><br/>Serie 2<br/>HSN<br/><br/>This course prepares childcare providers for emergency situations in family childcare settings. Participants will learn key strategies for emergency response\, create action plans\, and ensure the safety of children in the event of an emergency.<br/><br/>Set 2&nbsp\;<br/>HSN</p><br/><br/><br/><br/><br/><br/> For more information on this event\, go to https://pdnetworks.soesd.k12.or.us/public/events/view-event/13801/88262-%28STATE%29-Preparaci%C3%B3n-Ante-Situaciones-de-Emergencia-en-el-Cuidado-Infantil-Familiar-%28Emergency-Preparedness-in-Family-Child-Care-Settings%29
STATUS:CONFIRMED
END:VEVENT
END:VCALENDAR