BEGIN:VCALENDAR
VERSION:2.0
PRODID:-//hacksw/handcal//NONSGML v1.0//EN
METHOD:PUBLISH
BEGIN:VEVENT
UID:pdnetworks-13803@soesd.k12.or.us
SEQUENCE:7
DTSTAMP:20260419T191046
DTSTART:20250904T180000
DTEND:20250904T210000
SUMMARY:88853 A Practical Guide to Supporting Gender Diversity in Early Childhood - PDNetworks Workshop
LOCATION:Clackamas ESD - Online/Virtual     - 
X-ALT-DESC;FMTTYPE=text/html:Clackamas ESD - Online/Virtual     - <br/><br/><p>Participants will explore themes of gender identity in early childhood\, including developing activities and environments which support children&rsquo\;s identity development\, strategies for partnering with families\, and approaches to staff development in early learning settings.<br/><br/>Set 2<br/>1.5 hr DIV &amp\; 1.5 hr PPLD</p><br/><br/><br/><br/><br/><br/> For more information on this event\, go to https://pdnetworks.soesd.k12.or.us/public/events/view-event/13803/88853-A-Practical-Guide-to-Supporting-Gender-Diversity-in-Early-Childhood
STATUS:CONFIRMED
END:VEVENT
END:VCALENDAR