BEGIN:VCALENDAR
VERSION:2.0
PRODID:-//hacksw/handcal//NONSGML v1.0//EN
METHOD:PUBLISH
BEGIN:VEVENT
UID:pdnetworks-13808@soesd.k12.or.us
SEQUENCE:11
DTSTAMP:20260421T091335
DTSTART:20250911T180000
DTEND:20250911T200000
SUMMARY:88855 After the RRCAN Report Support for the Child and Their Family in the Community - PDNetworks Workshop
LOCATION:Clackamas ESD - Online/Virtual     - 
X-ALT-DESC;FMTTYPE=text/html:Clackamas ESD - Online/Virtual     - <br/><br/><p>You have made a report of child abuse\, or the parents tell you that a report has been made. How do you support the child and family to continue to participate in your program? Explore the effects of stress on you\, the child\, and the family. Develop strategies to honor family strengths and connect them to community support.<br/><br/>Set 2<br/>1.5 hr FCS &amp\; 1.5 hr PPLD</p><br/><br/><br/><br/><br/><br/> For more information on this event\, go to https://pdnetworks.soesd.k12.or.us/public/events/view-event/13808/88855-After-the-RRCAN-Report-Support-for-the-Child-and-Their-Family-in-the-Community
STATUS:CONFIRMED
END:VEVENT
END:VCALENDAR