BEGIN:VCALENDAR
VERSION:2.0
PRODID:-//hacksw/handcal//NONSGML v1.0//EN
METHOD:PUBLISH
BEGIN:VEVENT
UID:pdnetworks-13822@soesd.k12.or.us
SEQUENCE:6
DTSTAMP:20260421T163731
DTSTART:20250723T180000
DTEND:20250723T210000
SUMMARY:88845 A High Five for Everyone Guiding Behavior with Positive Reinforcement - PDNetworks Workshop
LOCATION:Clackamas ESD - Online/Virtual     - 
X-ALT-DESC;FMTTYPE=text/html:Clackamas ESD - Online/Virtual     - <br/><br/><p>Do you wonder what makes children behave the way they do? How can you get them to listen? How do you get them to do what you want? Join me as we use your knowledge of child development to deep dive into positive reinforcement and compare current practices on different positive reinforcement strategies to develop more inclusive support plans for children in your program.<br/><br/>Set 2<br/>UGB</p><br/><br/><br/><br/><br/><br/> For more information on this event\, go to https://pdnetworks.soesd.k12.or.us/public/events/view-event/13822/88845-A-High-Five-for-Everyone-Guiding-Behavior-with-Positive-Reinforcement
STATUS:CONFIRMED
END:VEVENT
END:VCALENDAR