BEGIN:VCALENDAR
VERSION:2.0
PRODID:-//hacksw/handcal//NONSGML v1.0//EN
METHOD:PUBLISH
BEGIN:VEVENT
UID:pdnetworks-1386622216@soesd.k12.or.us
SEQUENCE:16
DTSTAMP:20260420T034030
DTSTART:20250814T180000
DTEND:20250814T210000
SUMMARY:Observation and Assessment Cohort - Authentic Assessment is All About Me The Art of Learning to Really See Each Individual Child's Abilities\, Strengths & Possibilities (88941)   - PDNetworks Class
LOCATION:Clackamas ESD - Online/Virtual     - Online/Virtual
DESCRIPTION:Clackamas ESD - Online/Virtual     - Online/Virtual\n\nCome and learn more about a variety of aspects of Observation and Assessment in the Early Childhood Classroom or fine tune your current skills. This cohort has a little bit of something for everyone charged with capturing an authentic picture of a child&#39\;s development and planning curriculum based on the individuals needs.\n\nGiving Value\, Making Visible A Reggio-Inspired Approach to Documentation (88261)\nDate: 8/5/25 6pm-9pm Stephen Karmol\n\nYou Came\, You Saw\, Now What? Developing Strategies to Use Observations to Individualize Curriculum (88932)\nDate: 8/7/25 6pm-9pm Kelley Lawson\n\nAuthentic Assessment is All About Me The Art of Learning to Really See Each Individual Child&#39\;s Abilities\, Strengths &amp\; Possibilities (88941)\nDate: 8/14/25 6pm-9pm Kelley Lawson\n\nExploring Tools for Social and Emotional Observation and Assessment (89004)\nDate: 8/27/25 6pm-9pm Nina Rhodes\n\n&nbsp\;\n\nFor more information on (or to unsubscribe from) this event\, please go to https://pdnetworks.soesd.k12.or.us/public/events/view-event/13866/Observation-and-Assessment-Cohort
STATUS:CONFIRMED
END:VEVENT
END:VCALENDAR