BEGIN:VCALENDAR
VERSION:2.0
PRODID:-//hacksw/handcal//NONSGML v1.0//EN
METHOD:PUBLISH
BEGIN:VEVENT
UID:pdnetworks-13869@soesd.k12.or.us
SEQUENCE:6
DTSTAMP:20260420T070154
DTSTART:20250707T180000
DTEND:20250707T200000
SUMMARY:89041 Encouraging Communication with Young Children - PDNetworks Workshop
LOCATION:Clackamas ESD - Online/Virtual     - 
DESCRIPTION:Clackamas ESD - Online/Virtual     - \n\nCommunication is more than using words. Humans learn to communicate through body language\, gestures and pictures earlier than verbal language. We will discuss how children learn to communicate within culture and community. Tips on how to use visuals\, basic sign language and other strategies to support communication will be shared.\n\nSet 1 HGD\n&nbsp\;\n\n\n\n For more information on this event\, go to https://pdnetworks.soesd.k12.or.us/public/events/view-event/13869/89041-Encouraging-Communication-with-Young-Children
STATUS:CONFIRMED
END:VEVENT
END:VCALENDAR