BEGIN:VCALENDAR
VERSION:2.0
PRODID:-//hacksw/handcal//NONSGML v1.0//EN
METHOD:PUBLISH
BEGIN:VEVENT
UID:pdnetworks-13871@soesd.k12.or.us
SEQUENCE:5
DTSTAMP:20260419T234404
DTSTART:20250804T180000
DTEND:20250804T200000
SUMMARY:89042 Flying Solo: Positive Guidance with Young Children (SEIU) - PDNetworks Workshop
LOCATION:Clackamas ESD - Online/Virtual     - 
DESCRIPTION:Clackamas ESD - Online/Virtual     - \n\nThis session provides an overview to positive methods for guiding children&rsquo\;s behavior in small group settings. We will identify methods and resources to address young children&rsquo\;s challenging behaviors.\n\nSet 1\, UGB\n\n\n\n For more information on this event\, go to https://pdnetworks.soesd.k12.or.us/public/events/view-event/13871/89042-Flying-Solo%3A-Positive-Guidance-with-Young-Children-%28SEIU%29
STATUS:CONFIRMED
END:VEVENT
END:VCALENDAR