BEGIN:VCALENDAR
VERSION:2.0
PRODID:-//hacksw/handcal//NONSGML v1.0//EN
METHOD:PUBLISH
BEGIN:VEVENT
UID:pdnetworks-13875@soesd.k12.or.us
SEQUENCE:7
DTSTAMP:20260419T234441
DTSTART:20250908T180000
DTEND:20250908T200000
SUMMARY:89043 (SEIU) Flying Solo: Providing for Children With Special Needs - PDNetworks Workshop
LOCATION:Clackamas ESD - Online/Virtual     - 
DESCRIPTION:Clackamas ESD - Online/Virtual     - \n\nThis session provides an introduction of ways to provide care for children with special needs without support staff. We will discuss ways to make accommodations for children and serve families within the capacity of your small program.\n\nSet 1\, SN\n\n\n\n For more information on this event\, go to https://pdnetworks.soesd.k12.or.us/public/events/view-event/13875/89043-%28SEIU%29-Flying-Solo%3A-Providing-for-Children-With-Special-Needs
STATUS:CONFIRMED
END:VEVENT
END:VCALENDAR