BEGIN:VCALENDAR
VERSION:2.0
PRODID:-//hacksw/handcal//NONSGML v1.0//EN
METHOD:PUBLISH
BEGIN:VEVENT
UID:pdnetworks-13877@soesd.k12.or.us
SEQUENCE:9
DTSTAMP:20260421T225954
DTSTART:20250604T180000
DTEND:20250604T200000
SUMMARY:89152 Practicas Comerciales Basicas para Programas de Cuidado de Infantes Y Niños Pequeños (Basics Business Practices for Infants and Toddlers Child Care Programs) (Spanish) - PDNetworks Workshop
LOCATION:Clackamas ESD - Online/Virtual     - 
DESCRIPTION:Clackamas ESD - Online/Virtual     - \n\nEsta capacitaci&oacute\;n explorar&aacute\; las pr&aacute\;cticas y recursos empresariales b&aacute\;sicos para programas de cuidado infantil para beb&eacute\;s y ni&ntilde\;os peque&ntilde\;os. Los participantes examinar&aacute\;n y consolidar&aacute\;n recursos para crear las mejores pr&aacute\;cticas empresariales en sus programas\, incluyendo manuales para padres\, pol&iacute\;ticas\, contratos\, formularios\, etc.\n\nSet 2\, PM\n&nbsp\;\n\n\n\n For more information on this event\, go to https://pdnetworks.soesd.k12.or.us/public/events/view-event/13877/89152-Practicas-Comerciales-Basicas-para-Programas-de-Cuidado-de-Infantes-Y-Ni%C3%B1os-Peque%C3%B1os-%28Basics-Business-Practices-for-Infants-and-Toddlers-Child-Care-Programs%29-%28Spanish%29
STATUS:CONFIRMED
END:VEVENT
END:VCALENDAR