BEGIN:VCALENDAR
VERSION:2.0
PRODID:-//hacksw/handcal//NONSGML v1.0//EN
METHOD:CANCEL
BEGIN:VEVENT
UID:pdnetworks-13891@soesd.k12.or.us
SEQUENCE:8
DTSTAMP:20260419T164908
DTSTART:20250909T180000
DTEND:20250909T210000
SUMMARY:89039 It’s an Inside Job Exploring Strategies to Address Inherent Bias - PDNetworks Workshop
LOCATION:Clackamas ESD - Online/Virtual     - Online/Virtual
DESCRIPTION:Clackamas ESD - Online/Virtual     - Online/Virtual\n\n\n\n\n\n For more information on this event\, go to https://pdnetworks.soesd.k12.or.us/public/events/view-event/13891/89039-It%E2%80%99s-an-Inside-Job-Exploring-Strategies-to-Address-Inherent-Bias
STATUS:CANCELLED
END:VEVENT
END:VCALENDAR