BEGIN:VCALENDAR
VERSION:2.0
PRODID:-//hacksw/handcal//NONSGML v1.0//EN
METHOD:PUBLISH
BEGIN:VEVENT
UID:pdnetworks-1412822583@soesd.k12.or.us
SEQUENCE:14
DTSTAMP:20260420T174949
DTSTART:20111130T000000
DTEND:20111130T000000
SUMMARY:Implementing the OSAS Interim Assessments - On-Demand Online Course 2025/26 - Module 1: Overview of OSAS Interim Assessments  - PDNetworks Class
LOCATION:Online Canvas Course    
DESCRIPTION:Online Canvas Course    \n\nAfter this module\, you will be better able to . . .\n\n	Identify components of OSAS that contribute to a balanced approach to assessment.\n\n	Explain the purpose of each part of OSAS.\n\n	Explore the different types of Interim Assessments available to educators.\n\n	Make connections between Interim Assessments and Formative Assessment Practices.\n\n\n\nFor more information on (or to unsubscribe from) this event\, please go to https://pdnetworks.soesd.k12.or.us/public/events/view-event/14128/Implementing-the-OSAS-Interim-Assessments---On-Demand-Online-Course-2025-26
STATUS:CONFIRMED
END:VEVENT
END:VCALENDAR