BEGIN:VCALENDAR
VERSION:2.0
PRODID:-//hacksw/handcal//NONSGML v1.0//EN
METHOD:PUBLISH
BEGIN:VEVENT
UID:pdnetworks-1412822584@soesd.k12.or.us
SEQUENCE:14
DTSTAMP:20260420T174355
DTSTART:20111130T000000
DTEND:20111130T000000
SUMMARY:Implementing the OSAS Interim Assessments - On-Demand Online Course 2025/26 - Module 2 - Connecting OSAS Interim Assessments to ELA\, Math\, and Science Standards  - PDNetworks Class
LOCATION:Online Canvas Course    
DESCRIPTION:Online Canvas Course    \n\nAfter this module\, you will be better able to . . .\n\n	Explain the connection between the Oregon Academic Content Standards and the OSAS Interim Assessment targets.\n\n	Navigate the Interim Assessment Overview resource for selecting standards-aligned OSAS Interim Assessments.\n\n	Explore how the OSAS Interim Assessments can be selected to align to local instruction in ELA\, Math\, and Science. \n\n	Connect opportunities for the OSAS Interim Assessments to fulfill the Oregon Local Performance Assessment (work sample) requirement.\n\n\n\nFor more information on (or to unsubscribe from) this event\, please go to https://pdnetworks.soesd.k12.or.us/public/events/view-event/14128/Implementing-the-OSAS-Interim-Assessments---On-Demand-Online-Course-2025-26
STATUS:CONFIRMED
END:VEVENT
END:VCALENDAR