BEGIN:VCALENDAR
VERSION:2.0
PRODID:-//hacksw/handcal//NONSGML v1.0//EN
METHOD:PUBLISH
BEGIN:VEVENT
UID:pdnetworks-1412822585@soesd.k12.or.us
SEQUENCE:14
DTSTAMP:20260420T174954
DTSTART:20111130T000000
DTEND:20111130T000000
SUMMARY:Implementing the OSAS Interim Assessments - On-Demand Online Course 2025/26 - Module 3 - Selecting and Administering OSAS Interim Assessments - PDNetworks Class
LOCATION:Online Canvas Course    
DESCRIPTION:Online Canvas Course    \n\nAfter this module\, you will be better able to . . .\n\n	Select an OSAS Interim Assessment Block (IAB) aligned with current learning goals and instruction.\n\n	Navigate to the various interim tests and tools within the OSAS Portal.\n\n	Preview IABs and Focused IABs using the Assessment Viewing Application (AVA) within the OSAS Portal.\n\n	Understand how to administer IABs and Focused IABs to students within the OSAS Portal.\n\n\n\nFor more information on (or to unsubscribe from) this event\, please go to https://pdnetworks.soesd.k12.or.us/public/events/view-event/14128/Implementing-the-OSAS-Interim-Assessments---On-Demand-Online-Course-2025-26
STATUS:CONFIRMED
END:VEVENT
END:VCALENDAR