BEGIN:VCALENDAR
VERSION:2.0
PRODID:-//hacksw/handcal//NONSGML v1.0//EN
METHOD:PUBLISH
BEGIN:VEVENT
UID:pdnetworks-1412822587@soesd.k12.or.us
SEQUENCE:14
DTSTAMP:20260420T174626
DTSTART:20111130T000000
DTEND:20111130T000000
SUMMARY:Implementing the OSAS Interim Assessments - On-Demand Online Course 2025/26 - Module 5 - Embedding OSAS Interim Assessments in Curriculum - PDNetworks Class
LOCATION:Online Canvas Course    
DESCRIPTION:Online Canvas Course    \n\nAfter completing this module\, participants will be able to:\n\no	Make explicit connections between the OSAS Interim Assessments and Formative Assessment success criteria and evidence of learning.\n\no	Embed OSAS Interim Assessments into local ELA\, Math\, and Science curricula.\n\no	Begin to evaluate curricular materials and instructional tasks for cognitive complexity.\n\n\n\n\n\nFor more information on (or to unsubscribe from) this event\, please go to https://pdnetworks.soesd.k12.or.us/public/events/view-event/14128/Implementing-the-OSAS-Interim-Assessments---On-Demand-Online-Course-2025-26
STATUS:CONFIRMED
END:VEVENT
END:VCALENDAR