BEGIN:VCALENDAR
VERSION:2.0
PRODID:-//hacksw/handcal//NONSGML v1.0//EN
METHOD:PUBLISH
BEGIN:VEVENT
UID:pdnetworks-14134@soesd.k12.or.us
SEQUENCE:2
DTSTAMP:20260424T043031
DTSTART:20260113T153000
DTEND:20260113T173000
SUMMARY:Comprehensive ELPA Summative Training 25-26 - PDNetworks Workshop
DESCRIPTION:This training is for Test Administrators of the ELPA Summative. Annual training is required for this state assessment. Training in how to administer the ELPA Screener does not qualify a TA to administer the ELPA Summative assessment. This training is comprehensive\, meaning it will include the ELPA Summative Module from ODE followed by the three modules (2 Test Administration\, 3 Accessibility Supports\, and 4 Test Security) that are required of all test administrators.\n\nTAs that have already participated in Modules 2\, 3\, and 4 this school year do not have to stay for this portion of the training. Training will be provided remotely via Teams. Participants will need a computer and a good internet connection. A link will be emailed24 hours prior to the event.\n\nRegistration deadline: 24 hours prior to event\n\nContact Dan Kimbrow at dkimbrow@cesd.org\n\nPrice: FREE\n\n\n\n For more information on this event\, go to https://pdnetworks.soesd.k12.or.us/public/events/view-event/14134/Comprehensive-ELPA-Summative-Training-25-26
STATUS:CONFIRMED
END:VEVENT
END:VCALENDAR