BEGIN:VCALENDAR
VERSION:2.0
PRODID:-//hacksw/handcal//NONSGML v1.0//EN
METHOD:PUBLISH
BEGIN:VEVENT
UID:pdnetworks-14234@soesd.k12.or.us
SEQUENCE:6
DTSTAMP:20260423T205638
DTSTART:20251021T180000
DTEND:20251021T210000
SUMMARY:90407 Celebrating Diversity & Social Justice with Children's Books (STATE) - PDNetworks Workshop
LOCATION:Clackamas ESD - Online/Virtual     - Online/Virtual
X-ALT-DESC;FMTTYPE=text/html:Clackamas ESD - Online/Virtual     - Online/Virtual<br/><br/><span style="font-size:12pt"><span style="font-family:Calibri\,sans-serif"><span style="color:#000000">How do we help develop a sense of self in early childhood? In this session\, we will examine how we help develop a sense of self through diverse picture books in our early learning spaces.</span></span></span><br/><br/>CKC: DIV<br/>Set: 2<br/>ARC: IT\, PS<br/><br/><br/><br/> For more information on this event\, go to https://pdnetworks.soesd.k12.or.us/public/events/view-event/14234/90407-Celebrating-Diversity-%26-Social-Justice-with-Children%27s-Books-%28STATE%29
STATUS:CONFIRMED
END:VEVENT
END:VCALENDAR