BEGIN:VCALENDAR
VERSION:2.0
PRODID:-//hacksw/handcal//NONSGML v1.0//EN
METHOD:PUBLISH
BEGIN:VEVENT
UID:pdnetworks-14238@soesd.k12.or.us
SEQUENCE:8
DTSTAMP:20260420T090325
DTSTART:20251103T180000
DTEND:20251103T210000
SUMMARY:90422 исследование особенностей развития сенсорного восприятия\, внимания\, памяти\, мышления\, воображения и речи у детей дошкольного возраста (STATE) - PDNetworks Workshop
LOCATION:Clackamas ESD - Online/Virtual     - Online/Virtual
X-ALT-DESC;FMTTYPE=text/html:Clackamas ESD - Online/Virtual     - Online/Virtual<br/><br/><span style="font-size:10.5pt"><span style="font-family:Arial\,sans-serif"><span style="color:#000000"><span style="background-color:#ffffff">В ходе обучения вы расширите свои знания о дошкольном возрасте\, уделяя особое внимание аспектам педагогической и возрастной психологии. В ходе обучения мы критически рассмотрим развитие таких психологических процессов\, как ощущение и восприятие\, внимание\, память\, мышление\, воображение и речь. Кроме того\, мы обсудим тему оценки готовности ребенка к школьному обучению.<br/><br/>Set: 3<br/>CKC: HGD<br/>ARC: PS</span></span></span></span><br/>&nbsp\;<br/><br/><br/><br/> For more information on this event\, go to https://pdnetworks.soesd.k12.or.us/public/events/view-event/14238/90422-%D0%B8%D1%81%D1%81%D0%BB%D0%B5%D0%B4%D0%BE%D0%B2%D0%B0%D0%BD%D0%B8%D0%B5-%D0%BE%D1%81%D0%BE%D0%B1%D0%B5%D0%BD%D0%BD%D0%BE%D1%81%D1%82%D0%B5%D0%B9-%D1%80%D0%B0%D0%B7%D0%B2%D0%B8%D1%82%D0%B8%D1%8F-%D1%81%D0%B5%D0%BD%D1%81%D0%BE%D1%80%D0%BD%D0%BE%D0%B3%D0%BE-%D0%B2%D0%BE%D1%81%D0%BF%D1%80%D0%B8%D1%8F%D1%82%D0%B8%D1%8F%2C-%D0%B2%D0%BD%D0%B8%D0%BC%D0%B0%D0%BD%D0%B8%D1%8F%2C-%D0%BF%D0%B0%D0%BC%D1%8F%D1%82%D0%B8%2C-%D0%BC%D1%8B%D1%88%D0%BB%D0%B5%D0%BD%D0%B8%D1%8F%2C-%D0%B2%D0%BE%D0%BE%D0%B1%D1%80%D0%B0%D0%B6%D0%B5%D0%BD%D0%B8%D1%8F-%D0%B8-%D1%80%D0%B5%D1%87%D0%B8-%D1%83-%D0%B4%D0%B5%D1%82%D0%B5%D0%B9-%D0%B4%D0%BE%D1%88%D0%BA%D0%BE%D0%BB%D1%8C%D0%BD%D0%BE%D0%B3%D0%BE-%D0%B2%D0%BE%D0%B7%D1%80%D0%B0%D1%81%D1%82%D0%B0-%28STATE%29
STATUS:CONFIRMED
END:VEVENT
END:VCALENDAR