BEGIN:VCALENDAR
VERSION:2.0
PRODID:-//hacksw/handcal//NONSGML v1.0//EN
METHOD:PUBLISH
BEGIN:VEVENT
UID:pdnetworks-14389@soesd.k12.or.us
SEQUENCE:5
DTSTAMP:20260420T061145
DTSTART:20250902T180000
DTEND:20250902T200000
SUMMARY:90682 Environments and Routines: How they Help with Social Emotional Learning - PDNetworks Workshop
LOCATION:Clackamas ESD - Online/Virtual     - Online/Virtual
DESCRIPTION:Clackamas ESD - Online/Virtual     - Online/Virtual\n\nDuring this training we will discuss how the set up of environments and routines can help with social emotional development\, specifically helping with some challenging behaviors.\nLEC 2\nSet 2\nARC: NA\n\n\n\n For more information on this event\, go to https://pdnetworks.soesd.k12.or.us/public/events/view-event/14389/90682-Environments-and-Routines%3A-How-they-Help-with-Social-Emotional-Learning
STATUS:CONFIRMED
END:VEVENT
END:VCALENDAR