BEGIN:VCALENDAR
VERSION:2.0
PRODID:-//hacksw/handcal//NONSGML v1.0//EN
METHOD:CANCEL
BEGIN:VEVENT
UID:pdnetworks-14759@soesd.k12.or.us
SEQUENCE:4
DTSTAMP:20260420T170948
DTSTART:20251208T080000
DTEND:20251208T150000
SUMMARY:Be a Champion for Change in Your Classroom and Community (k-5) - PDNetworks Workshop
LOCATION:Jackson County Health & Human Services 140 S Holly St. Medford OR 97501 - 
X-ALT-DESC;FMTTYPE=text/html:Jackson County Health & Human Services 140 S Holly St. Medford OR 97501 - <br/><br/><span style="font-size:14px"><span style="font-family:Trebuchet MS\,Helvetica\,sans-serif">Join us for a one-day professional learning&nbsp\;<br/>session about substance use prevention. Learn&nbsp\;<br/>about evidence-based strategies to understand&nbsp\;<br/>substance use and substance use prevention&nbsp\;<br/>while helping students to make healthy choices.<br/><br/><strong>Learning Highlights</strong><br/>&bull\; Substance use background knowledge and related Oregon laws<br/>&bull\; Oregon Health Standards\, including substance use\, misuse and<br/>substance use disorder standards<br/>&bull\; Developmentally appropriate ways to provide information to<br/>students about substance use<br/>&bull\; Creating a safe and inclusive school environment that promotes<br/>the well-being of all students\, including those experiencing<br/>substance use disorder and in recovery<br/><br/><strong>Who Should Attend</strong><br/>&bull\; K-5 Classroom teachers<br/>&bull\; Counselors<br/>&bull\; Health educators<br/>&bull\; Administrators<br/><br/><strong>Date:</strong> 12/8/25<br/><strong>Time:</strong> 8-3:30pm<br/><strong>Location:</strong> Jackson County Health&nbsp\;<br/>and Human Services Conference&nbsp\;<br/>Center\, 140 S Holly St\, Medford\, OR&nbsp\;<br/>97501</span></span><br/><br/><br/><br/> For more information on this event\, go to https://pdnetworks.soesd.k12.or.us/public/events/view-event/14759/Be-a-Champion-for-Change-in-Your-Classroom-and-Community-%28k-5%29
STATUS:CANCELLED
END:VEVENT
END:VCALENDAR