BEGIN:VCALENDAR
VERSION:2.0
PRODID:-//hacksw/handcal//NONSGML v1.0//EN
METHOD:PUBLISH
BEGIN:VEVENT
UID:pdnetworks-14801@soesd.k12.or.us
SEQUENCE:11
DTSTAMP:20260423T044057
DTSTART:20251204T180000
DTEND:20251204T210000
SUMMARY:91618 Try to See it My Way How Perspective-Taking Can Change Our Understanding of Behavior - PDNetworks Workshop
LOCATION:Clackamas ESD - Online/Virtual     - Online/Virtual
X-ALT-DESC;FMTTYPE=text/html:Clackamas ESD - Online/Virtual     - Online/Virtual<br/><br/>Imagine if we utilized empathetic curiosity to gain insight into children&#39\;s actions. What if we looked beyond their behavior to consider their point of view\, developmental stage\, and environmental influences? It&#39\;s possible! In this session\, we&rsquo\;ll examine the power of pausing for some perspective-taking and develop inclusive strategies that positively meet children&rsquo\;s needs.<br/><span style="font-size:12pt"><span style="font-family:Calibri\,sans-serif"><span style="color:#000000">Set: 2<br/>CKC: UGB<br/>ARC: All</span></span></span><br/>&nbsp\;<br/><br/><br/><br/> For more information on this event\, go to https://pdnetworks.soesd.k12.or.us/public/events/view-event/14801/91618-Try-to-See-it-My-Way-How-Perspective-Taking-Can-Change-Our-Understanding-of-Behavior
STATUS:CONFIRMED
END:VEVENT
END:VCALENDAR