BEGIN:VCALENDAR
VERSION:2.0
PRODID:-//hacksw/handcal//NONSGML v1.0//EN
METHOD:PUBLISH
BEGIN:VEVENT
UID:pdnetworks-14864@soesd.k12.or.us
SEQUENCE:5
DTSTAMP:20260419T112906
DTSTART:20260112T173000
DTEND:20260112T213000
SUMMARY:92240 Внедрение методов АВА-терапии в практику психолого-педагогического вмешательства при обучении детей с РАС (STATE) - PDNetworks Workshop
LOCATION:Clackamas ESD - Online/Virtual     - Online/Virtual
X-ALT-DESC;FMTTYPE=text/html:Clackamas ESD - Online/Virtual     - Online/Virtual<br/><br/><span style="font-size:12pt"><span style="font-family:Calibri\,sans-serif"><span style="color:#000000">Тренинг посвящен ключевым аспектам и стратегиям обучения детей с расстройствами аутистического спектра. Мы проведем сравнительный анализ ключевых компонентов терапии ABA: Discrete Trial Training (DTT) и Pivotal Response Training (PRT). Мы также подробно углубимся в особенности прикладного вербального поведения. По результату тренинга участники расширят &nbsp\;арсенал практических навыков\, которые смогут применят в профессиональной деятельности.<br/>Set: 3<br/>CKC: SN<br/>ARC: n/a</span></span></span><br/>&nbsp\;<br/><br/><br/><br/> For more information on this event\, go to https://pdnetworks.soesd.k12.or.us/public/events/view-event/14864/92240-%D0%92%D0%BD%D0%B5%D0%B4%D1%80%D0%B5%D0%BD%D0%B8%D0%B5-%D0%BC%D0%B5%D1%82%D0%BE%D0%B4%D0%BE%D0%B2-%D0%90%D0%92%D0%90-%D1%82%D0%B5%D1%80%D0%B0%D0%BF%D0%B8%D0%B8-%D0%B2-%D0%BF%D1%80%D0%B0%D0%BA%D1%82%D0%B8%D0%BA%D1%83-%D0%BF%D1%81%D0%B8%D1%85%D0%BE%D0%BB%D0%BE%D0%B3%D0%BE-%D0%BF%D0%B5%D0%B4%D0%B0%D0%B3%D0%BE%D0%B3%D0%B8%D1%87%D0%B5%D1%81%D0%BA%D0%BE%D0%B3%D0%BE-%D0%B2%D0%BC%D0%B5%D1%88%D0%B0%D1%82%D0%B5%D0%BB%D1%8C%D1%81%D1%82%D0%B2%D0%B0-%D0%BF%D1%80%D0%B8-%D0%BE%D0%B1%D1%83%D1%87%D0%B5%D0%BD%D0%B8%D0%B8-%D0%B4%D0%B5%D1%82%D0%B5%D0%B9-%D1%81-%D0%A0%D0%90%D0%A1-%28STATE%29
STATUS:CONFIRMED
END:VEVENT
END:VCALENDAR