BEGIN:VCALENDAR
VERSION:2.0
PRODID:-//hacksw/handcal//NONSGML v1.0//EN
METHOD:PUBLISH
BEGIN:VEVENT
UID:pdnetworks-14868@soesd.k12.or.us
SEQUENCE:9
DTSTAMP:20260419T095123
DTSTART:20260115T180000
DTEND:20260115T210000
SUMMARY:92242 Introduction to Let’s Play! Movement Games for Young Children: Games and Movement to Support the Young Child’s Development and Learning (STATE) - PDNetworks Workshop
LOCATION:Clackamas ESD - Online/Virtual     - Online/Virtual
X-ALT-DESC;FMTTYPE=text/html:Clackamas ESD - Online/Virtual     - Online/Virtual<br/><br/><span style="font-size:12pt"><span style="font-family:Calibri\,sans-serif"><span style="color:#000000">Through introducing the foundational senses:(touch\, proprioception\, vestibular\, life)\, and developmental movements\, we will explore games\, movement and a variety of activities to support the health and development of the whole child.<br/>Set: 1<br/>CKC: HSN<br/>ARC: n/a</span></span></span><br/>&nbsp\;<br/><br/><br/><br/> For more information on this event\, go to https://pdnetworks.soesd.k12.or.us/public/events/view-event/14868/92242-Introduction-to-Let%E2%80%99s-Play%21-Movement-Games-for-Young-Children%3A-Games-and-Movement-to-Support-the-Young-Child%E2%80%99s-Development-and-Learning-%28STATE%29
STATUS:CONFIRMED
END:VEVENT
END:VCALENDAR