BEGIN:VCALENDAR
VERSION:2.0
PRODID:-//hacksw/handcal//NONSGML v1.0//EN
METHOD:PUBLISH
BEGIN:VEVENT
UID:pdnetworks-14872@soesd.k12.or.us
SEQUENCE:10
DTSTAMP:20260419T100419
DTSTART:20260121T120000
DTEND:20260121T133000
SUMMARY:92243 Adults Come to Learning Experiences with Histories: Adults Learning Principals Series (STATE) - PDNetworks Workshop
LOCATION:Clackamas ESD - Online/Virtual     - Online/Virtual
X-ALT-DESC;FMTTYPE=text/html:Clackamas ESD - Online/Virtual     - Online/Virtual<br/><br/><span style="font-size:12pt"><span style="font-family:Calibri\,sans-serif"><span style="color:#000000">Would you like to create learning spaces that feel more meaningful and engaging for adult learners? Together\, we will explore and practice ways to connect adults&rsquo\; prior knowledge and experiences to new learning.<br/>Set: 2<br/>CKC: PPLD<br/>ARC: n/a</span></span></span><br/>&nbsp\;<br/><br/><br/><br/> For more information on this event\, go to https://pdnetworks.soesd.k12.or.us/public/events/view-event/14872/92243-Adults-Come-to-Learning-Experiences-with-Histories%3A-Adults-Learning-Principals-Series-%28STATE%29
STATUS:CONFIRMED
END:VEVENT
END:VCALENDAR