BEGIN:VCALENDAR
VERSION:2.0
PRODID:-//hacksw/handcal//NONSGML v1.0//EN
METHOD:PUBLISH
BEGIN:VEVENT
UID:pdnetworks-14881@soesd.k12.or.us
SEQUENCE:6
DTSTAMP:20260419T082202
DTSTART:20260131T090000
DTEND:20260131T150000
SUMMARY:91902 Primeros Auxilios y CPR - Para Infantes y Adultos (Espanol) - PDNetworks Workshop
LOCATION:Clackamas ESD - Sunnybrook 13455 SE 97th Ave Clackamas OR 97015 - 
X-ALT-DESC;FMTTYPE=text/html:Clackamas ESD - Sunnybrook 13455 SE 97th Ave Clackamas OR 97015 - <br/><br/><p><span style="font-size:11pt"><span style="font-family:Arial\,sans-serif"><span style="color:#000000">Primeros auxilios y RCP (reanimaci&oacute\;n cardiopulmonar) para ni&ntilde\;os\, incluyendo beb&eacute\;s\, y adultos. Se requieren certificaciones vigentes en primeros auxilios y RCP para proveedores de cuidado infantil familiar certificados y registrados\, as&iacute\; como para parte del personal de centros de cuidado infantil certificados. Esta capacitaci&oacute\;n cumple con los requisitos de licencia de la OCC\, as&iacute\; como con los requisitos para la tarifa mejorada del DHS.</span></span></span></p><br/><br/><br/><br/><p><span style="font-size:11pt"><span style="font-family:Arial\,sans-serif"><span style="color:#000000">Esta capacitaci&oacute\;n es tradicional y se imparte &iacute\;ntegramente en persona.</span></span></span><br/><span style="color:#000000\; font-family:Calibri\,sans-serif\; font-size:12pt">Set: 1</span><br/><span style="color:#000000\; font-family:Calibri\,sans-serif\; font-size:12pt">CKC: HSN</span><br/><span style="color:#000000\; font-family:Calibri\,sans-serif\; font-size:12pt">ARC: n/a</span></p><br/><br/><strong>Si es proveedor familiar certificado o registrado en el condado de Clackamas y su nombre figura en su licencia\, puede renovar su programa de RCP/Primeros Auxilios GRATIS. Llame al 503-675-4144 para inscribirse.</strong><br/><br/><br/><br/> For more information on this event\, go to https://pdnetworks.soesd.k12.or.us/public/events/view-event/14881/91902-Primeros-Auxilios-y-CPR---Para-Infantes-y-Adultos-%28Espanol%29
STATUS:CONFIRMED
END:VEVENT
END:VCALENDAR