BEGIN:VCALENDAR
VERSION:2.0
PRODID:-//hacksw/handcal//NONSGML v1.0//EN
METHOD:PUBLISH
BEGIN:VEVENT
UID:pdnetworks-14882@soesd.k12.or.us
SEQUENCE:7
DTSTAMP:20260423T093317
DTSTART:20260202T180000
DTEND:20260202T210000
SUMMARY:92244 Sensory Smarts: Understanding and Supporting Sensory Needs in Infants and Toddlers (STATE) - PDNetworks Workshop
LOCATION:Clackamas ESD - Online/Virtual     - Online/Virtual
X-ALT-DESC;FMTTYPE=text/html:Clackamas ESD - Online/Virtual     - Online/Virtual<br/><br/><span style="font-size:12pt"><span style="font-family:Calibri\,sans-serif"><span style="color:#000000">As educators\, it&rsquo\;s important to know how little ones take in and respond to sights\, sounds\, touch\, and more. In this workshop we&rsquo\;ll explore what sensory needs look like for infants/toddlers and share practical ways to support them every day. You&rsquo\;ll leave with fresh ideas and strategies for creating fun\, sensory-friendly spaces.<br/>Set: 3<br/>CKC: LEC/SN<br/>ARC: IT</span></span></span><br/>&nbsp\;<br/><br/><br/><br/> For more information on this event\, go to https://pdnetworks.soesd.k12.or.us/public/events/view-event/14882/92244-Sensory-Smarts%3A-Understanding-and-Supporting-Sensory-Needs-in-Infants-and-Toddlers-%28STATE%29
STATUS:CONFIRMED
END:VEVENT
END:VCALENDAR