BEGIN:VCALENDAR
VERSION:2.0
PRODID:-//hacksw/handcal//NONSGML v1.0//EN
METHOD:PUBLISH
BEGIN:VEVENT
UID:pdnetworks-14883@soesd.k12.or.us
SEQUENCE:8
DTSTAMP:20260423T093235
DTSTART:20260205T180000
DTEND:20260205T200000
SUMMARY:92245 Keeping Children Physically Safe (STATE) - PDNetworks Workshop
LOCATION:Clackamas ESD - Online/Virtual     - Online/Virtual
X-ALT-DESC;FMTTYPE=text/html:Clackamas ESD - Online/Virtual     - Online/Virtual<br/><br/><span style="font-size:12pt"><span style="font-family:Calibri\,sans-serif"><span style="color:#000000">This training will examine the requirements for both indoor and outdoor environments to ensure the physical safety of all children\, in accordance with state and local licensing. Examples will be explored to develop a plan to monitor safety in these environments.<br/>Set: 2<br/>CKC: HSN<br/>ARC: n/a</span></span></span><br/>&nbsp\;<br/><br/><br/><br/> For more information on this event\, go to https://pdnetworks.soesd.k12.or.us/public/events/view-event/14883/92245-Keeping-Children-Physically-Safe-%28STATE%29
STATUS:CONFIRMED
END:VEVENT
END:VCALENDAR