BEGIN:VCALENDAR
VERSION:2.0
PRODID:-//hacksw/handcal//NONSGML v1.0//EN
METHOD:PUBLISH
BEGIN:VEVENT
UID:pdnetworks-14887@soesd.k12.or.us
SEQUENCE:5
DTSTAMP:20260423T093435
DTSTART:20260218T120000
DTEND:20260218T133000
SUMMARY:92248 Adults Want Agency in Learning: Adult Learning Principles Series (STATE) - PDNetworks Workshop
LOCATION:Clackamas ESD - Online/Virtual     - Online/Virtual
X-ALT-DESC;FMTTYPE=text/html:Clackamas ESD - Online/Virtual     - Online/Virtual<br/><br/><p style="margin-right:32px"><span style="font-size:12pt"><span style="font-family:Calibri\,sans-serif"><span style="color:#000000">Would you like to create learning spaces that empower adult learners?&nbsp\;</span></span></span></p><br/><br/><br/><br/><p style="margin-right:32px"><span style="font-size:12pt"><span style="font-family:Calibri\,sans-serif"><span style="color:#000000">Together\, we will explore and practice strategies to support choice\, autonomy\, and agency in adult learning experiences.</span></span></span></p><br/><br/><span style="font-size:12pt"><span style="font-family:Calibri\,sans-serif"><span style="color:#000000">Set: 2<br/>CKC: PPLD<br/>ARC: n/a</span></span></span><br/>&nbsp\;<br/><br/><br/><br/> For more information on this event\, go to https://pdnetworks.soesd.k12.or.us/public/events/view-event/14887/92248-Adults-Want-Agency-in-Learning%3A-Adult-Learning-Principles-Series-%28STATE%29
STATUS:CONFIRMED
END:VEVENT
END:VCALENDAR