BEGIN:VCALENDAR
VERSION:2.0
PRODID:-//hacksw/handcal//NONSGML v1.0//EN
METHOD:PUBLISH
BEGIN:VEVENT
UID:pdnetworks-14888@soesd.k12.or.us
SEQUENCE:4
DTSTAMP:20260423T062143
DTSTART:20260218T180000
DTEND:20260218T210000
SUMMARY:92264 De-Escalation Strategies for Early Childhood Educators (STATE) - PDNetworks Workshop
LOCATION:Clackamas ESD - Online/Virtual     - Online/Virtual
X-ALT-DESC;FMTTYPE=text/html:Clackamas ESD - Online/Virtual     - Online/Virtual<br/><br/><span style="font-size:12pt"><span style="font-family:Calibri\,sans-serif"><span style="color:#000000">This training helps educators recognize early signs of emotional escalation in young children and apply age-appropriate de-escalation strategies. Participants will explore the escalation cycle\, co-regulation\, and the impact of self-regulation\, then apply skills through scenarios and develop a personal action plan.<br/>Set: 2<br/>CKC: UGB<br/>ARC: PS</span></span></span><br/>&nbsp\;<br/><br/><br/><br/> For more information on this event\, go to https://pdnetworks.soesd.k12.or.us/public/events/view-event/14888/92264-De-Escalation-Strategies-for-Early-Childhood-Educators-%28STATE%29
STATUS:CONFIRMED
END:VEVENT
END:VCALENDAR