BEGIN:VCALENDAR
VERSION:2.0
PRODID:-//hacksw/handcal//NONSGML v1.0//EN
METHOD:PUBLISH
BEGIN:VEVENT
UID:pdnetworks-14889@soesd.k12.or.us
SEQUENCE:3
DTSTAMP:20260423T062639
DTSTART:20260219T180000
DTEND:20260219T210000
SUMMARY:92265 Trauma y sus tipos (Trauma and Types of Trauma)  (STATE) - PDNetworks Workshop
LOCATION:Clackamas ESD - Online/Virtual     - Online/Virtual
X-ALT-DESC;FMTTYPE=text/html:Clackamas ESD - Online/Virtual     - Online/Virtual<br/><br/><span style="font-size:12pt"><span style="font-family:Calibri\,sans-serif"><span style="color:#000000">En esta capacitaci&oacute\;n\, los participantes profundizar&aacute\;n en el tema del trauma y los tipos de trauma. Los proveedores explorar&aacute\;n el impacto que el trauma tiene en las personas y en las comunidades en las que viven y aprenden. Los participantes continuar&aacute\;n ampliando sus conocimientos sobre el tema del trauma y los diferentes tipos de trauma que ocurren en la vida cotidiana.<br/>Set: 2<br/>CKC: HSN<br/>ARC: n/a</span></span></span><br/>&nbsp\;<br/><br/><br/><br/> For more information on this event\, go to https://pdnetworks.soesd.k12.or.us/public/events/view-event/14889/92265-Trauma-y-sus-tipos-%28Trauma-and-Types-of-Trauma%29--%28STATE%29
STATUS:CONFIRMED
END:VEVENT
END:VCALENDAR