BEGIN:VCALENDAR
VERSION:2.0
PRODID:-//hacksw/handcal//NONSGML v1.0//EN
METHOD:PUBLISH
BEGIN:VEVENT
UID:pdnetworks-15012@soesd.k12.or.us
SEQUENCE:6
DTSTAMP:20260424T043157
DTSTART:20260107T180000
DTEND:20260107T200000
SUMMARY:92083 Ampliando mi entorno al aire libre - PDNetworks Workshop
LOCATION:Clackamas ESD - Online/Virtual     - Online/Virtual
X-ALT-DESC;FMTTYPE=text/html:Clackamas ESD - Online/Virtual     - Online/Virtual<br/><br/><span style="font-size:12pt"><span style="font-family:Calibri\,sans-serif"><span style="color:#000000">Los centros educativos tendr&aacute\;n la oportunidad de analizar diferentes enfoques e ideas sobre c&oacute\;mo ampliar sus espacios exteriores\, m&aacute\;s all&aacute\; de una simple estructura de juegos y triciclos. Dise&ntilde\;ar&aacute\;n su &aacute\;rea de juegos al aire libre para convertirla en un nuevo entorno que enriquezca la experiencia de aprendizaje de los ni&ntilde\;os en la naturaleza.<br/>Set: 2<br/>CKC: LEC<br/>ARC: PS</span></span></span><br/>&nbsp\;<br/><br/><br/><br/> For more information on this event\, go to https://pdnetworks.soesd.k12.or.us/public/events/view-event/15012/92083-Ampliando-mi-entorno-al-aire-libre
STATUS:CONFIRMED
END:VEVENT
END:VCALENDAR