BEGIN:VCALENDAR
VERSION:2.0
PRODID:-//hacksw/handcal//NONSGML v1.0//EN
METHOD:PUBLISH
BEGIN:VEVENT
UID:pdnetworks-15021@soesd.k12.or.us
SEQUENCE:6
DTSTAMP:20260423T081226
DTSTART:20260211T180000
DTEND:20260211T210000
SUMMARY:92084 Planificación de comidas sabrosas en el salón - PDNetworks Workshop
LOCATION:Clackamas ESD - Online/Virtual     - Online/Virtual
X-ALT-DESC;FMTTYPE=text/html:Clackamas ESD - Online/Virtual     - Online/Virtual<br/><br/><span style="font-size:12pt"><span style="font-family:Calibri\,sans-serif"><span style="color:#000000">Esta sesi&oacute\;n examina estrategias para planificar comidas nutritivas y culturalmente relevantes en el aula. Los participantes analizar&aacute\;n y establecer&aacute\;n rutinas de alimentaci&oacute\;n\, aplicar&aacute\;n las mejores pr&aacute\;cticas nutricionales y desarrollar&aacute\;n soluciones alimenticias que favorezcan la salud y el desarrollo infantil. Esta capacitaci&oacute\;n invita a los profesionales a aplicar sus conocimientos\, examinar sus pr&aacute\;cticas\, simplificar las rutinas y elaborar planes de acci&oacute\;n que reflejen los valores alimentarios familiares y culturales sostenibles.<br/>Set: 2<br/>CKC: HSN<br/>ARC: IT/PS</span></span></span><br/>&nbsp\;<br/><br/><br/><br/> For more information on this event\, go to https://pdnetworks.soesd.k12.or.us/public/events/view-event/15021/92084-Planificaci%C3%B3n-de-comidas-sabrosas-en-el-sal%C3%B3n
STATUS:CONFIRMED
END:VEVENT
END:VCALENDAR