BEGIN:VCALENDAR
VERSION:2.0
PRODID:-//hacksw/handcal//NONSGML v1.0//EN
METHOD:PUBLISH
BEGIN:VEVENT
UID:pdnetworks-15070@soesd.k12.or.us
SEQUENCE:27
DTSTAMP:20260423T044721
DTSTART:20260430T083000
DTEND:20260430T153000
SUMMARY:Literacy Series (K-12)  WestEd & CESD Present: Empowering Continuous Improvement Through Data Literacy - PDNetworks Workshop
LOCATION:Clackamas ESD - Sunnybrook 13455 SE 97th Ave Clackamas OR 97015 - New Era/Springwater (Combined) Conference Room
X-ALT-DESC;FMTTYPE=text/html:Clackamas ESD - Sunnybrook 13455 SE 97th Ave Clackamas OR 97015 - New Era/Springwater (Combined) Conference Room<br/><br/><p style="text-align:center"><span style="font-size:13.999999999999998pt"><span style="font-family:Calibri\,sans-serif"><span style="color:#000000"><strong>Data Literacy for Continuous Improvement: One-Day Event for&nbsp\;</strong></span></span></span></p><br/><br/><br/><br/><p style="text-align:center"><span style="font-size:13.999999999999998pt"><span style="font-family:Calibri\,sans-serif"><span style="color:#000000"><strong>Administrators\, Instructional Coaches\, and Teacher Leaders</strong></span></span></span></p><br/><br/>&nbsp\;<br/><br/><br/><br/><p><span style="font-size:12pt"><span style="font-family:Calibri\,sans-serif"><span style="color:#000000"><strong>THE WHY: Build a More Complete\, Equitable Picture of Student Learning</strong></span></span></span></p><br/><br/><br/><br/><p><span style="font-size:12pt"><span style="font-family:Calibri\,sans-serif"><span style="color:#000000">Too often\, decisions about students\, teachers\, and systems rely on incomplete data. This may lead to missed strengths\, inequitable outcomes\, and instructional decisions that don&rsquo\;t fully meet students&rsquo\; needs. This professional learning is grounded in a core belief:</span></span></span><br/>&nbsp\;</p><br/><br/><br/><br/><p><span style="font-size:12pt"><span style="font-family:Calibri\,sans-serif"><span style="color:#000000"><strong>Data is not just about measuring performance. It is about understanding people.</strong></span></span></span></p><br/><br/>&nbsp\;<br/><br/><br/><br/><p><span style="font-size:12pt"><span style="font-family:Calibri\,sans-serif"><span style="color:#000000"><strong>THE WHAT: Develop Mindsets\, Knowledge\, and Practices for Data-Informed Leadership</strong></span></span></span></p><br/><br/><br/><br/><p><span style="font-size:12pt"><span style="font-family:Calibri\,sans-serif"><span style="color:#000000">Join us to build your capacity in:</span></span></span></p><br/><br/><br/><br/><p><span style="font-size:12pt"><span style="font-family:Calibri\,sans-serif"><span style="color:#000000"><strong>Understanding Multiple Types of Data</strong></span></span></span></p><br/><br/><br/><br/><ul><br/><br/>	<li style="list-style-type:disc"><span style="font-size:12pt"><span style="font-family:Calibri\,sans-serif"><span style="color:#000000">Utilize state-approved data sources to garner a comprehensive understanding of literacy teaching and learning</span></span></span></li><br/><br/>	<li style="list-style-type:disc"><span style="font-size:12pt"><span style="font-family:Calibri\,sans-serif"><span style="color:#000000">Differentiate satellite (summative)\, map (formative)\, and street (daily) data</span></span></span></li><br/><br/></ul><br/><br/><br/><br/><p><span style="font-size:12pt"><span style="font-family:Calibri\,sans-serif"><span style="color:#000000"><strong>Applying an Equity-Centered Data Lens</strong></span></span></span></p><br/><br/><br/><br/><ul><br/><br/>	<li style="list-style-type:disc"><span style="font-size:12pt"><span style="font-family:Calibri\,sans-serif"><span style="color:#000000">Disaggregate data to uncover patterns</span></span></span></li><br/><br/>	<li style="list-style-type:disc"><span style="font-size:12pt"><span style="font-family:Calibri\,sans-serif"><span style="color:#000000">Center student strengths and assets\, and use multiple sources to build a narrative</span></span></span></li><br/><br/></ul><br/><br/><br/><br/><p><span style="font-size:12pt"><span style="font-family:Calibri\,sans-serif"><span style="color:#000000"><strong>Using Data for Continuous Improvement</strong></span></span></span></p><br/><br/><br/><br/><ul><br/><br/>	<li style="list-style-type:disc"><span style="font-size:12pt"><span style="font-family:Calibri\,sans-serif"><span style="color:#000000">Apply or Adapt your Plan&ndash\;Do&ndash\;Study&ndash\;Act (PDSA) cycle</span></span></span></li><br/><br/>	<li style="list-style-type:disc"><span style="font-size:12pt"><span style="font-family:Calibri\,sans-serif"><span style="color:#000000">Analyze whether instruction is working</span></span></span></li><br/><br/>	<li style="list-style-type:disc"><span style="font-size:12pt"><span style="font-family:Calibri\,sans-serif"><span style="color:#000000">Decide to sustain\, adjust\, intensify\, or fade supports</span></span></span></li><br/><br/></ul><br/><br/><br/><br/><p><span style="font-size:12pt"><span style="font-family:Calibri\,sans-serif"><span style="color:#000000">Participants will also examine how data functions across systems:</span></span></span></p><br/><br/><br/><br/><ul><br/><br/>	<li style="list-style-type:disc"><span style="font-size:12pt"><span style="font-family:Calibri\,sans-serif"><span style="color:#000000"><strong>Classroom:</strong></span></span></span><span style="font-size:12pt"><span style="font-family:Calibri\,sans-serif"><span style="color:#000000"> Real-time instructional decisions</span></span></span></li><br/><br/>	<li style="list-style-type:disc"><span style="font-size:12pt"><span style="font-family:Calibri\,sans-serif"><span style="color:#000000"><strong>School:</strong></span></span></span><span style="font-size:12pt"><span style="font-family:Calibri\,sans-serif"><span style="color:#000000"> Patterns\, collaboration\, resource alignment</span></span></span></li><br/><br/>	<li style="list-style-type:disc"><span style="font-size:12pt"><span style="font-family:Calibri\,sans-serif"><span style="color:#000000"><strong>District:</strong></span></span></span><span style="font-size:12pt"><span style="font-family:Calibri\,sans-serif"><span style="color:#000000"> Systems planning and accountability</span></span></span></li><br/><br/></ul><br/><br/>&nbsp\;<br/><br/><br/><br/><p><span style="font-size:12pt"><span style="font-family:Calibri\,sans-serif"><span style="color:#000000"><strong>THE HOW: Engage in Collaborative\, Practice-Based Learning</strong></span></span></span></p><br/><br/><br/><br/><p><span style="font-size:12pt"><span style="font-family:Calibri\,sans-serif"><span style="color:#000000">We will be learning by:</span></span></span></p><br/><br/><br/><br/><ul><br/><br/>	<li style="list-style-type:disc"><span style="font-size:12pt"><span style="font-family:Calibri\,sans-serif"><span style="color:#000000">Reflecting on personal data stories</span></span></span></li><br/><br/>	<li style="list-style-type:disc"><span style="font-size:12pt"><span style="font-family:Calibri\,sans-serif"><span style="color:#000000">Analyzing literacy and progress-monitoring case studies</span></span></span></li><br/><br/>	<li style="list-style-type:disc"><span style="font-size:12pt"><span style="font-family:Calibri\,sans-serif"><span style="color:#000000">Listening to others&rsquo\; successes</span></span></span></li><br/><br/>	<li style="list-style-type:disc"><span style="font-size:12pt"><span style="font-family:Calibri\,sans-serif"><span style="color:#000000">Engaging in a Data Detective Challenge</span></span></span></li><br/><br/>	<li style="list-style-type:disc"><span style="font-size:12pt"><span style="font-family:Calibri\,sans-serif"><span style="color:#000000">Interpreting progress-monitoring data</span></span></span></li><br/><br/>	<li style="list-style-type:disc"><span style="font-size:12pt"><span style="font-family:Calibri\,sans-serif"><span style="color:#000000">Applying or adapting your PDSA</span></span></span></li><br/><br/></ul><br/><br/><br/><br/><p><span style="font-size:12pt"><span style="font-family:Calibri\,sans-serif"><span style="color:#000000"><strong>Action Planning</strong></span></span></span><br/><span style="font-size:12pt"><span style="font-family:Calibri\,sans-serif"><span style="color:#000000">Participants will leave with:</span></span></span></p><br/><br/><br/><br/><ul><br/><br/>	<li style="list-style-type:disc"><span style="font-size:12pt"><span style="font-family:Calibri\,sans-serif"><span style="color:#000000">A clear next step for improving data use and aligning with SB 141 guidance</span></span></span></li><br/><br/>	<li style="list-style-type:disc"><span style="font-size:12pt"><span style="font-family:Calibri\,sans-serif"><span style="color:#000000">Language and tools for data conversations</span></span></span></li><br/><br/></ul><br/><br/><br/><br/><p><span style="font-size:12pt"><span style="font-family:Calibri\,sans-serif"><span style="color:#000000"><strong>Outcome</strong></span></span></span><br/><span style="font-size:12pt"><span style="font-family:Calibri\,sans-serif"><span style="color:#000000">By the end of the day\, leaders will be prepared to:</span></span></span></p><br/><br/><br/><br/><ul><br/><br/>	<li style="list-style-type:disc"><span style="font-size:12pt"><span style="font-family:Calibri\,sans-serif"><span style="color:#000000">Strengthen literacy instruction through continuous improvement cycles</span></span></span></li><br/><br/>	<li style="list-style-type:disc"><span style="font-size:12pt"><span style="font-family:Calibri\,sans-serif"><span style="color:#000000">Foster systems where data supports student success</span></span></span></li><br/><br/></ul><br/><br/><br/><br/><p><br/>This session is presented by Clackamas ESD with WestEd and will be presented by Rawlin Rosario and Dr. Jenell Krishnan from WestEd.&nbsp\;&nbsp\;<br/>&nbsp\;</p><br/><br/><br/><br/><br/>&nbsp\;<br/><br/><br/><br/> For more information on this event\, go to https://pdnetworks.soesd.k12.or.us/public/events/view-event/15070/Literacy-Series-%28K-12%29--WestEd-%26-CESD-Present%3A-Empowering-Continuous-Improvement-Through-Data-Literacy
STATUS:CONFIRMED
END:VEVENT
END:VCALENDAR