BEGIN:VCALENDAR
VERSION:2.0
PRODID:-//hacksw/handcal//NONSGML v1.0//EN
METHOD:PUBLISH
BEGIN:VEVENT
UID:pdnetworks-15262@soesd.k12.or.us
SEQUENCE:5
DTSTAMP:20260423T060300
DTSTART:20260422T163000
DTEND:20260422T180000
SUMMARY:Play\, Plan & Power UP STEAM | Makey Makey - PDNetworks Workshop
LOCATION:Clackamas ESD - Sunnybrook 13455 SE 97th Ave Clackamas OR 97015 - 
X-ALT-DESC;FMTTYPE=text/html:Clackamas ESD - Sunnybrook 13455 SE 97th Ave Clackamas OR 97015 - <br/><br/><h1><span style="color:#006633">Play\, Plan &amp\; Power UP STEAM | Makey Makey</span></h1><br/><br/>Hands-On STEAM Workshops for Educators<br/>&nbsp\;<br/><br/><p><strong>Play. Explore. Plan. Power up your classroom STEAM experiences!</strong></p><br/><br/><br/><br/><p>This interactive professional learning series invites educators to play with STEAM tools first\, then plan how to integrate them into meaningful\, standards-aligned classroom instruction using the STEAM Lending Library.</p><br/><br/><br/><br/><h2><strong>Play &#39\;n Learn.</strong></h2><br/><br/><br/><br/><p><em>Come for the play.&nbsp\; Stay for the planning- YOUR choice!</em></p><br/><br/><br/><br/><h2><strong>Makey Makey (3-8</strong>)</h2><br/><br/><br/><br/><h3>Invent\, Connect\, Create</h3><br/><br/><br/><br/><p>Turn everyday objects into interactive inventions! Explore circuits\, conductivity\, and creative expression while connecting engineering\, coding\, and the arts.<br/><br/><a href="https://drive.google.com/file/d/18dqkH0AyW7VmTYEYf6My8ltbmQav4ojt/view?usp=sharing"><span style="background-color:#f1c40f">Flyer Link</span></a></p><br/><br/><br/><br/><br/><br/> For more information on this event\, go to https://pdnetworks.soesd.k12.or.us/public/events/view-event/15262/Play%2C-Plan-%26-Power-UP-STEAM-%7C-Makey-Makey
STATUS:CONFIRMED
END:VEVENT
END:VCALENDAR