BEGIN:VCALENDAR
VERSION:2.0
PRODID:-//hacksw/handcal//NONSGML v1.0//EN
METHOD:PUBLISH
BEGIN:VEVENT
UID:pdnetworks-15306@soesd.k12.or.us
SEQUENCE:14
DTSTAMP:20260420T033209
DTSTART:20260319T083000
DTEND:20260319T153000
SUMMARY:Literacy Series (K-12) Session 4 - Dr. Julia Lindsey - PDNetworks Workshop
LOCATION:Clackamas ESD - Sunnybrook 13455 SE 97th Ave Clackamas OR 97015 - New Era/Springwater (Combined) Conference Room
X-ALT-DESC;FMTTYPE=text/html:Clackamas ESD - Sunnybrook 13455 SE 97th Ave Clackamas OR 97015 - New Era/Springwater (Combined) Conference Room<br/><br/><p>Led by Julia B. Lindsey\, Ph.D.&mdash\;respected literacy expert\, former elementary educator\, and author of <em>Reading Above the Fray</em> and <em>Small Groups\, Big Results</em>&mdash\;this engaging and inspiring session will bring research to life in ways that feel practical\, purposeful\, and deeply student-centered.&nbsp\;<br/><br/><strong>The Day:</strong><br/>Join us for a full day of learning focused on bringing structured literacy to life in your classroom. Together\, we&rsquo\;ll unpack <em>the book</em>&mdash\;grounding our work in shared understanding&mdash\;while exploring <em>the why</em> behind structured literacy through research and the IES Practice Guides.</p><br/><br/><br/><br/><p>From there\, we&rsquo\;ll dive into <em>the how</em>: the specific\, high-leverage instructional routines and discrete teaching moves that make structured literacy effective and impactful for all students.</p><br/><br/><br/><br/><p>We&rsquo\;ll take a closer look at five critical routines that drive reading success:</p><br/><br/><br/><br/><ul><br/><br/>	<li><br/><br/>	<p>The Alphabetic Principle</p><br/><br/>	</li><br/><br/>	<li><br/><br/>	<p>High-Frequency Words</p><br/><br/>	</li><br/><br/>	<li><br/><br/>	<p>Decodable Text (and its connection to knowledge building)</p><br/><br/>	</li><br/><br/>	<li><br/><br/>	<p>Chunking for word recognition</p><br/><br/>	</li><br/><br/>	<li><br/><br/>	<p>Repeated Reading for fluency</p><br/><br/>	</li><br/><br/></ul><br/><br/><br/><br/><p>Finally\, we&rsquo\;ll explore what it truly means to <strong>intensify instruction</strong>&mdash\;how to scaffold\, adjust\, and respond to student needs while maintaining strong core practices.</p><br/><br/><br/><br/><p>This session is designed to leave you with clarity\, practical strategies\, and concrete routines you can implement immediately to strengthen literacy outcomes for every learner.</p><br/><br/><br/><br/><br/><br/> For more information on this event\, go to https://pdnetworks.soesd.k12.or.us/public/events/view-event/15306/Literacy-Series-%28K-12%29-Session-4---Dr.-Julia-Lindsey
STATUS:CONFIRMED
END:VEVENT
END:VCALENDAR