BEGIN:VCALENDAR
VERSION:2.0
PRODID:-//hacksw/handcal//NONSGML v1.0//EN
METHOD:PUBLISH
BEGIN:VEVENT
UID:pdnetworks-15320@soesd.k12.or.us
SEQUENCE:4
DTSTAMP:20260419T081837
DTSTART:20260205T080000
DTEND:20260205T150000
SUMMARY:Building Thinking Classrooms for Canby Educators - PDNetworks Workshop
LOCATION:Baker Prairie Middle School 1859 S Township Rd Canby OR 97013 - 
X-ALT-DESC;FMTTYPE=text/html:Baker Prairie Middle School 1859 S Township Rd Canby OR 97013 - <br/><br/><span style="font-size:14px">At this full day training (8 am - 3 pm)<br/>Teachers&nbsp\;will experience <a href="https://www.buildingthinkingclassrooms.com/">Building Thinking Classrooms</a>&nbsp\;(BTC) math practices.</span><br/><br/><em>Across the US and in Oregon\, there is growing teacher enthusiasm around BTC practices. <strong>In a BTC classroom\, K-12 students work on math tasks in collaborative teams.</strong> Twenty years of research backs up these approaches: students engage more\, learn more\, and get excited about math.</em><br/><br/>Hosted by Clackamas ESD Math Specialist\, Lori MacKenzie and the fabulous Amanda Grabber.<br/><br/><span style="color:#0033ff"><strong>You will:</strong></span><br/><br/><ul><br/><br/>	<li><span style="color:#0033ff"><strong>Personally experience a BTC activity\, in the role of a student</strong></span></li><br/><br/>	<li><span style="color:#0033ff"><strong>Learn about Advanced BTC Practices (consolidation\, meaninful notes\, rubrics for behavior\, etc.)</strong></span></li><br/><br/>	<li><span style="color:#0033ff"><strong>Visit middle school BTC classrooms</strong></span></li><br/><br/></ul><br/><br/><em>Notes:</em><br/><br/><br/><br/><ol><br/><br/>	<li>This event will be hosted at BAKER PRAIRIE MIDDLE SCHOOL in Canby.</li><br/><br/>	<li>Lunch will be on your own.</li><br/><br/></ol><br/><br/><br/><br/><br/><br/> For more information on this event\, go to https://pdnetworks.soesd.k12.or.us/public/events/view-event/15320/Building-Thinking-Classrooms-for-Canby-Educators
STATUS:CONFIRMED
END:VEVENT
END:VCALENDAR