BEGIN:VCALENDAR
VERSION:2.0
PRODID:-//hacksw/handcal//NONSGML v1.0//EN
METHOD:PUBLISH
BEGIN:VEVENT
UID:pdnetworks-15362@soesd.k12.or.us
SEQUENCE:9
DTSTAMP:20260423T065029
DTSTART:20260406T180000
DTEND:20260406T210000
SUMMARY:(94273) Examinando y aplicando las influencias culturales en el comportamiento desafiante (Examining and Applying Cultural Influences to Challenging Behaviors) (STATE) - PDNetworks Workshop
LOCATION:Clackamas ESD - Online/Virtual     - Online/Virtual
X-ALT-DESC;FMTTYPE=text/html:Clackamas ESD - Online/Virtual     - Online/Virtual<br/><br/><span style="font-size:12pt"><span style="font-family:Calibri\,sans-serif"><span style="color:#000000">Description:&nbsp\;Participantes examinar&aacute\;n la influencia de la cultura en el desarrollo de la identidad y el comportamiento de los ni&ntilde\;os. Explorar&aacute\;n el papel de la familia y la cultura en el comportamiento y desarrollar&aacute\;n actividades culturales para promover la conducta positiva. Participantes desarrollar&aacute\;n estrategias para obtener m&aacute\;s informaci&oacute\;n acerca de la influencia de la cultura en el comportamiento desafiante de los ni&ntilde\;os en sus programas.<br/>Set: 2<br/>CKC: DIV / UGB<br/>ARC: Preschool</span></span></span><br/>&nbsp\;<br/><br/><br/><br/> For more information on this event\, go to https://pdnetworks.soesd.k12.or.us/public/events/view-event/15362/%2894273%29-Examinando-y-aplicando-las-influencias-culturales-en-el-comportamiento-desafiante-%28Examining-and-Applying-Cultural-Influences-to-Challenging-Behaviors%29-%28STATE%29
STATUS:CONFIRMED
END:VEVENT
END:VCALENDAR