BEGIN:VCALENDAR
VERSION:2.0
PRODID:-//hacksw/handcal//NONSGML v1.0//EN
METHOD:PUBLISH
BEGIN:VEVENT
UID:pdnetworks-15363@soesd.k12.or.us
SEQUENCE:7
DTSTAMP:20260423T080447
DTSTART:20260407T180000
DTEND:20260407T210000
SUMMARY:(94274) See the Child\, Not the Label (STATE) - PDNetworks Workshop
LOCATION:Clackamas ESD - Online/Virtual     - Online/Virtual
X-ALT-DESC;FMTTYPE=text/html:Clackamas ESD - Online/Virtual     - Online/Virtual<br/><br/><span style="font-size:12pt"><span style="font-family:Calibri\,sans-serif"><span style="color:#000000">Description:&nbsp\;<span style="background-color:#ffffff">Children are often given a label\, which may or may not be correct. Participants will look at specific behavior patterns from the children in the classroom and learn to address specific behaviors to lead to a more successful\, respectful\, and enriching community.</span><br/>Set: 2<br/>CKC: SN<br/>ARC: Infant / Toddler\, Preschool\, and School Age</span></span></span><br/>&nbsp\;<br/><br/><br/><br/> For more information on this event\, go to https://pdnetworks.soesd.k12.or.us/public/events/view-event/15363/%2894274%29-See-the-Child%2C-Not-the-Label-%28STATE%29
STATUS:CONFIRMED
END:VEVENT
END:VCALENDAR