BEGIN:VCALENDAR
VERSION:2.0
PRODID:-//hacksw/handcal//NONSGML v1.0//EN
METHOD:PUBLISH
BEGIN:VEVENT
UID:pdnetworks-15364@soesd.k12.or.us
SEQUENCE:8
DTSTAMP:20260423T064937
DTSTART:20260408T180000
DTEND:20260408T210000
SUMMARY:(94275) Parenting for the Next Generation: Positive Parent Empowerment (STATE) - PDNetworks Workshop
LOCATION:Clackamas ESD - Online/Virtual     - Online/Virtual
X-ALT-DESC;FMTTYPE=text/html:Clackamas ESD - Online/Virtual     - Online/Virtual<br/><br/><span style="font-size:12pt"><span style="font-family:Calibri\,sans-serif"><span style="color:#000000">Description:&nbsp\;Examine positive parenting techniques to support parents and transform challenging relationships into effective positive parenting communities. This interactive workshop empowers educators to empower parents. Develop strategies to ensure collaborative partnerships between parents and educators to raise children who thrive\, and are ready to become leaders for the next generation. Return to your community with an individualized positive parenting action plan.<br/>Set: 2<br/>CKC: FCS<br/>ARC: No Age-Related Content</span></span></span><br/>&nbsp\;<br/><br/><br/><br/> For more information on this event\, go to https://pdnetworks.soesd.k12.or.us/public/events/view-event/15364/%2894275%29-Parenting-for-the-Next-Generation%3A-Positive-Parent-Empowerment-%28STATE%29
STATUS:CONFIRMED
END:VEVENT
END:VCALENDAR