BEGIN:VCALENDAR
VERSION:2.0
PRODID:-//hacksw/handcal//NONSGML v1.0//EN
METHOD:PUBLISH
BEGIN:VEVENT
UID:pdnetworks-15365@soesd.k12.or.us
SEQUENCE:10
DTSTAMP:20260423T060828
DTSTART:20260414T180000
DTEND:20260414T210000
SUMMARY:(94276) Supporting Independence: Practical Life in the Classroom for Children with Disabilities (STATE) - PDNetworks Workshop
LOCATION:Clackamas ESD - Online/Virtual     - Online/Virtual
X-ALT-DESC;FMTTYPE=text/html:Clackamas ESD - Online/Virtual     - Online/Virtual<br/><br/><span style="font-size:12pt"><span style="font-family:Calibri\,sans-serif"><span style="color:#000000">Description:&nbsp\;<span style="background-color:#ffffff">Independence is at the heart of education &mdash\; but for children with disabilities\, the path to independence may look different. This interactive session gives educators the knowledge\, mindset\, and tools to make Practical Life experiences accessible and empowering for every child.</span><br/>Set: 2<br/>CKC: SN<br/>ARC: Preschool and School Age</span></span></span><br/>&nbsp\;<br/><br/><br/><br/> For more information on this event\, go to https://pdnetworks.soesd.k12.or.us/public/events/view-event/15365/%2894276%29-Supporting-Independence%3A-Practical-Life-in-the-Classroom-for-Children-with-Disabilities-%28STATE%29
STATUS:CONFIRMED
END:VEVENT
END:VCALENDAR