BEGIN:VCALENDAR
VERSION:2.0
PRODID:-//hacksw/handcal//NONSGML v1.0//EN
METHOD:PUBLISH
BEGIN:VEVENT
UID:pdnetworks-15366@soesd.k12.or.us
SEQUENCE:8
DTSTAMP:20260423T055927
DTSTART:20260415T120000
DTEND:20260415T133000
SUMMARY:(94277) Adults Want to Learn: Adult Learning Principles Series (STATE) - PDNetworks Workshop
LOCATION:Clackamas ESD - Online/Virtual     - Online/Virtual
X-ALT-DESC;FMTTYPE=text/html:Clackamas ESD - Online/Virtual     - Online/Virtual<br/><br/><span style="font-size:12pt"><span style="font-family:Calibri\,sans-serif"><span style="color:#000000">Description:&nbsp\;<span style="background-color:#ffffff">Have you ever seen staff tune out during professional development? Even when it seems like folks are not interested\, humans are naturally wired to learn. In this session\, we will use our knowledge of adult learning principles to explore and apply strategies that result in increased learner engagement.</span><br/>Set: 2<br/>CKC: PPLD<br/>ARC: No Age-Related Content</span></span></span><br/>&nbsp\;<br/><br/><br/><br/> For more information on this event\, go to https://pdnetworks.soesd.k12.or.us/public/events/view-event/15366/%2894277%29-Adults-Want-to-Learn%3A-Adult-Learning-Principles-Series-%28STATE%29
STATUS:CONFIRMED
END:VEVENT
END:VCALENDAR