BEGIN:VCALENDAR
VERSION:2.0
PRODID:-//hacksw/handcal//NONSGML v1.0//EN
METHOD:PUBLISH
BEGIN:VEVENT
UID:pdnetworks-15367@soesd.k12.or.us
SEQUENCE:8
DTSTAMP:20260423T060409
DTSTART:20260415T180000
DTEND:20260415T210000
SUMMARY:(94278) Family Engagement in Early Learning Programs: Strategies for Building Strong Relationships and Empowering Families (STATE) - PDNetworks Workshop
LOCATION:Clackamas ESD - Online/Virtual     - Online/Virtual
X-ALT-DESC;FMTTYPE=text/html:Clackamas ESD - Online/Virtual     - Online/Virtual<br/><br/><span style="font-size:12pt"><span style="font-family:Calibri\,sans-serif"><span style="color:#000000">Description:&nbsp\;<span style="background-color:#ffffff">In this workshop\, participants will examine strategies to build a culture of family engagement in early childhood programs. We will explore the importance of using a strengths-based approach and techniques for developing relationships and empowering families. Participants will examine family-friendly policies and procedures\, connection to resources in communities\, and advocacy methods to support the best for all families.</span><br/>Set: 2<br/>CKC: FCS<br/>ARC: No Age-Related Content</span></span></span><br/>&nbsp\;<br/><br/><br/><br/> For more information on this event\, go to https://pdnetworks.soesd.k12.or.us/public/events/view-event/15367/%2894278%29-Family-Engagement-in-Early-Learning-Programs%3A-Strategies-for-Building-Strong-Relationships-and-Empowering-Families-%28STATE%29
STATUS:CONFIRMED
END:VEVENT
END:VCALENDAR