BEGIN:VCALENDAR
VERSION:2.0
PRODID:-//hacksw/handcal//NONSGML v1.0//EN
METHOD:PUBLISH
BEGIN:VEVENT
UID:pdnetworks-15368@soesd.k12.or.us
SEQUENCE:6
DTSTAMP:20260423T055759
DTSTART:20260416T180000
DTEND:20260416T210000
SUMMARY:(94279) Integración de múltiples idiomas en entornos de cuidado infantil (Integrating Multiple Languages into Child Care Settings) (STATE) - PDNetworks Workshop
LOCATION:Clackamas ESD - Online/Virtual     - Online/Virtual
X-ALT-DESC;FMTTYPE=text/html:Clackamas ESD - Online/Virtual     - Online/Virtual<br/><br/><span style="font-size:12pt"><span style="font-family:Calibri\,sans-serif"><span style="color:#000000">Description:&nbsp\;Esta capacitaci&oacute\;n ayudar&aacute\; a los proveedores a explorar los beneficios de la integraci&oacute\;n de idiomas. Los participantes conocer&aacute\;n recursos y estrategias que apoyan la adquisici&oacute\;n del lenguaje y tendr&aacute\;n la oportunidad de practicar esas habilidades. Adem&aacute\;s\, examinar&aacute\;n c&oacute\;mo la incorporaci&oacute\;n de m&uacute\;ltiples idiomas puede relacionarse con el QRIS y mejorar la calidad del cuidado<br/>Set: 2<br/>CKC: DIV<br/>ARC: Infant / Toddler\, Preschool\, and School Age</span></span></span><br/>&nbsp\;<br/><br/><br/><br/> For more information on this event\, go to https://pdnetworks.soesd.k12.or.us/public/events/view-event/15368/%2894279%29-Integraci%C3%B3n-de-m%C3%BAltiples-idiomas-en-entornos-de-cuidado-infantil-%28Integrating-Multiple-Languages-into-Child-Care-Settings%29-%28STATE%29
STATUS:CONFIRMED
END:VEVENT
END:VCALENDAR