BEGIN:VCALENDAR
VERSION:2.0
PRODID:-//hacksw/handcal//NONSGML v1.0//EN
METHOD:PUBLISH
BEGIN:VEVENT
UID:pdnetworks-15369@soesd.k12.or.us
SEQUENCE:10
DTSTAMP:20260423T060828
DTSTART:20260420T180000
DTEND:20260420T210000
SUMMARY:(94280) Teatro de Historias: Apoyando a Todos los Niños en la Creación\, Representación y Reflexión de Sus Historias (Story Theater: Supporting All Children as They Create\, Perform\, and Reflect on Their Stories) (STATE) - PDNetworks Workshop
LOCATION:Clackamas ESD - Online/Virtual     - Online/Virtual
X-ALT-DESC;FMTTYPE=text/html:Clackamas ESD - Online/Virtual     - Online/Virtual<br/><br/><span style="font-size:12pt"><span style="font-family:Calibri\,sans-serif"><span style="color:#000000">Description:&nbsp\;Esta capacitaci&oacute\;n ayudar&aacute\; a los proveedores a explorar los beneficios de la integraci&oacute\;n de idiomas. Los participantes conocer&aacute\;n recursos y estrategias que apoyan la adquisici&oacute\;n del lenguaje y tendr&aacute\;n la oportunidad de practicar esas habilidades. Adem&aacute\;s\, examinar&aacute\;n c&oacute\;mo la incorporaci&oacute\;n de m&uacute\;ltiples idiomas puede relacionarse con el QRIS y mejorar la calidad del cuidado<br/>Set: 2<br/>CKC: LEC<br/>ARC: Preschool</span></span></span><br/>&nbsp\;<br/><br/><br/><br/> For more information on this event\, go to https://pdnetworks.soesd.k12.or.us/public/events/view-event/15369/%2894280%29-Teatro-de-Historias%3A-Apoyando-a-Todos-los-Ni%C3%B1os-en-la-Creaci%C3%B3n%2C-Representaci%C3%B3n-y-Reflexi%C3%B3n-de-Sus-Historias-%28Story-Theater%3A-Supporting-All-Children-as-They-Create%2C-Perform%2C-and-Reflect-on-Their-Stories%29-%28STATE%29
STATUS:CONFIRMED
END:VEVENT
END:VCALENDAR